BEGIN:VCALENDAR
VERSION:2.0
PRODID:-//Flamenco Las Dueñas - ECPv6.15.11//NONSGML v1.0//EN
CALSCALE:GREGORIAN
METHOD:PUBLISH
X-WR-CALNAME:Flamenco Las Dueñas
X-ORIGINAL-URL:https://flamencolasduenas.com
X-WR-CALDESC:Eventos para Flamenco Las Dueñas
REFRESH-INTERVAL;VALUE=DURATION:PT1H
X-Robots-Tag:noindex
X-PUBLISHED-TTL:PT1H
BEGIN:VTIMEZONE
TZID:Europe/Paris
BEGIN:DAYLIGHT
TZOFFSETFROM:+0100
TZOFFSETTO:+0200
TZNAME:CEST
DTSTART:20250330T010000
END:DAYLIGHT
BEGIN:STANDARD
TZOFFSETFROM:+0200
TZOFFSETTO:+0100
TZNAME:CET
DTSTART:20251026T010000
END:STANDARD
BEGIN:DAYLIGHT
TZOFFSETFROM:+0100
TZOFFSETTO:+0200
TZNAME:CEST
DTSTART:20260329T010000
END:DAYLIGHT
BEGIN:STANDARD
TZOFFSETFROM:+0200
TZOFFSETTO:+0100
TZNAME:CET
DTSTART:20261025T010000
END:STANDARD
BEGIN:DAYLIGHT
TZOFFSETFROM:+0100
TZOFFSETTO:+0200
TZNAME:CEST
DTSTART:20270328T010000
END:DAYLIGHT
BEGIN:STANDARD
TZOFFSETFROM:+0200
TZOFFSETTO:+0100
TZNAME:CET
DTSTART:20271031T010000
END:STANDARD
END:VTIMEZONE
BEGIN:VEVENT
DTSTART;TZID=Europe/Paris:20260421T190000
DTEND;TZID=Europe/Paris:20260421T200000
DTSTAMP:20260420T124304
CREATED:20260107T092223Z
LAST-MODIFIED:20260107T092223Z
UID:12412-1776798000-1776801600@flamencolasduenas.com
SUMMARY:RESERVAR
DESCRIPTION:FLAMENCO LAS DUEÑAS\nEspectáculo Flamenco tradicional\nContinúa su reserva aquí
URL:https://flamencolasduenas.com/event/reservar-35/
END:VEVENT
BEGIN:VEVENT
DTSTART;TZID=Europe/Paris:20260422T190000
DTEND;TZID=Europe/Paris:20260422T200000
DTSTAMP:20260420T124304
CREATED:20260107T094428Z
LAST-MODIFIED:20260107T094428Z
UID:12432-1776884400-1776888000@flamencolasduenas.com
SUMMARY:RESERVAR
DESCRIPTION:FLAMENCO LAS DUEÑAS\nEspectáculo Flamenco tradicional\nContinúa su reserva aquí
URL:https://flamencolasduenas.com/event/reservar-39/
END:VEVENT
BEGIN:VEVENT
DTSTART;TZID=Europe/Paris:20260423T190000
DTEND;TZID=Europe/Paris:20260423T200000
DTSTAMP:20260420T124304
CREATED:20260107T094549Z
LAST-MODIFIED:20260107T094549Z
UID:12437-1776970800-1776974400@flamencolasduenas.com
SUMMARY:RESERVAR
DESCRIPTION:FLAMENCO LAS DUEÑAS\nEspectáculo Flamenco tradicional\nContinúa su reserva aquí
URL:https://flamencolasduenas.com/event/reservar-40/
END:VEVENT
BEGIN:VEVENT
DTSTART;TZID=Europe/Paris:20260424T190000
DTEND;TZID=Europe/Paris:20260424T200000
DTSTAMP:20260420T124304
CREATED:20260107T094708Z
LAST-MODIFIED:20260107T094708Z
UID:12442-1777057200-1777060800@flamencolasduenas.com
SUMMARY:RESERVAR
DESCRIPTION:FLAMENCO LAS DUEÑAS\nEspectáculo Flamenco tradicional\nContinúa su reserva aquí
URL:https://flamencolasduenas.com/event/reservar-41/
END:VEVENT
BEGIN:VEVENT
DTSTART;TZID=Europe/Paris:20260425T190000
DTEND;TZID=Europe/Paris:20260425T200000
DTSTAMP:20260420T124304
CREATED:20260107T094822Z
LAST-MODIFIED:20260107T094822Z
UID:12447-1777143600-1777147200@flamencolasduenas.com
SUMMARY:RESERVAR
DESCRIPTION:FLAMENCO LAS DUEÑAS\nEspectáculo Flamenco tradicional\nContinúa su reserva aquí
URL:https://flamencolasduenas.com/event/reservar-42/
END:VEVENT
BEGIN:VEVENT
DTSTART;TZID=Europe/Paris:20260426T190000
DTEND;TZID=Europe/Paris:20260426T200000
DTSTAMP:20260420T124304
CREATED:20260107T095219Z
LAST-MODIFIED:20260107T095219Z
UID:12452-1777230000-1777233600@flamencolasduenas.com
SUMMARY:RESERVAR
DESCRIPTION:FLAMENCO LAS DUEÑAS\nEspectáculo Flamenco tradicional\nContinúa su reserva aquí
URL:https://flamencolasduenas.com/event/reservar-43/
END:VEVENT
BEGIN:VEVENT
DTSTART;TZID=Europe/Paris:20260428T190000
DTEND;TZID=Europe/Paris:20260428T200000
DTSTAMP:20260420T124304
CREATED:20260107T095524Z
LAST-MODIFIED:20260107T095524Z
UID:12462-1777402800-1777406400@flamencolasduenas.com
SUMMARY:RESERVAR
DESCRIPTION:FLAMENCO LAS DUEÑAS\nEspectáculo Flamenco tradicional\nContinúa su reserva aquí
URL:https://flamencolasduenas.com/event/reservar-45/
END:VEVENT
BEGIN:VEVENT
DTSTART;TZID=Europe/Paris:20260429T190000
DTEND;TZID=Europe/Paris:20260429T200000
DTSTAMP:20260420T124304
CREATED:20260107T095645Z
LAST-MODIFIED:20260107T095645Z
UID:12467-1777489200-1777492800@flamencolasduenas.com
SUMMARY:RESERVAR
DESCRIPTION:FLAMENCO LAS DUEÑAS\nEspectáculo Flamenco tradicional\nContinúa su reserva aquí
URL:https://flamencolasduenas.com/event/reservar-46/
END:VEVENT
BEGIN:VEVENT
DTSTART;TZID=Europe/Paris:20260430T190000
DTEND;TZID=Europe/Paris:20260430T200000
DTSTAMP:20260420T124304
CREATED:20260107T095910Z
LAST-MODIFIED:20260107T095910Z
UID:12472-1777575600-1777579200@flamencolasduenas.com
SUMMARY:RESERVAR
DESCRIPTION:FLAMENCO LAS DUEÑAS\nEspectáculo Flamenco tradicional\nContinúa su reserva aquí
URL:https://flamencolasduenas.com/event/reservar-47/
END:VEVENT
END:VCALENDAR